BEGIN:VCALENDAR
VERSION:2.0
PRODID:-//dreadscorner.com - ECPv6.6.0.2//NONSGML v1.0//EN
CALSCALE:GREGORIAN
METHOD:PUBLISH
X-WR-CALNAME:dreadscorner.com
X-ORIGINAL-URL:https://dreadscorner.com
X-WR-CALDESC:Events for dreadscorner.com
REFRESH-INTERVAL;VALUE=DURATION:PT1H
X-Robots-Tag:noindex
X-PUBLISHED-TTL:PT1H
BEGIN:VTIMEZONE
TZID:Europe/Moscow
BEGIN:STANDARD
TZOFFSETFROM:+0300
TZOFFSETTO:+0300
TZNAME:MSK
DTSTART:20250101T000000
END:STANDARD
END:VTIMEZONE
BEGIN:VEVENT
DTSTART;VALUE=DATE:20250202
DTEND;VALUE=DATE:20250204
DTSTAMP:20260422T172950
CREATED:20250122T010121Z
LAST-MODIFIED:20250122T010121Z
UID:10000035-1738454400-1738627199@dreadscorner.com
SUMMARY:Custom set
DESCRIPTION:
URL:https://dreadscorner.com/event/custom-set-8/
END:VEVENT
BEGIN:VEVENT
DTSTART;VALUE=DATE:20250204
DTEND;VALUE=DATE:20250206
DTSTAMP:20260422T172950
CREATED:20250128T223857Z
LAST-MODIFIED:20250128T224212Z
UID:10000042-1738627200-1738799999@dreadscorner.com
SUMMARY:Custom set
DESCRIPTION:
URL:https://dreadscorner.com/event/custom-set-15/
END:VEVENT
BEGIN:VEVENT
DTSTART;VALUE=DATE:20250207
DTEND;VALUE=DATE:20250210
DTSTAMP:20260422T172950
CREATED:20250122T010156Z
LAST-MODIFIED:20250122T010156Z
UID:10000036-1738886400-1739145599@dreadscorner.com
SUMMARY:Custom set
DESCRIPTION:
URL:https://dreadscorner.com/event/custom-set-9/
END:VEVENT
BEGIN:VEVENT
DTSTART;VALUE=DATE:20250210
DTEND;VALUE=DATE:20250212
DTSTAMP:20260422T172950
CREATED:20250122T010422Z
LAST-MODIFIED:20250122T010422Z
UID:10000039-1739145600-1739318399@dreadscorner.com
SUMMARY:Custom set
DESCRIPTION:
URL:https://dreadscorner.com/event/custom-set-12/
END:VEVENT
BEGIN:VEVENT
DTSTART;VALUE=DATE:20250213
DTEND;VALUE=DATE:20250217
DTSTAMP:20260422T172950
CREATED:20250122T010226Z
LAST-MODIFIED:20250122T010226Z
UID:10000037-1739404800-1739750399@dreadscorner.com
SUMMARY:Custom set
DESCRIPTION:
URL:https://dreadscorner.com/event/custom-set-10/
END:VEVENT
BEGIN:VEVENT
DTSTART;VALUE=DATE:20250218
DTEND;VALUE=DATE:20250222
DTSTAMP:20260422T172950
CREATED:20250122T010250Z
LAST-MODIFIED:20250122T010250Z
UID:10000038-1739836800-1740182399@dreadscorner.com
SUMMARY:Custom set
DESCRIPTION:
URL:https://dreadscorner.com/event/custom-set-11/
END:VEVENT
BEGIN:VEVENT
DTSTART;VALUE=DATE:20250223
DTEND;VALUE=DATE:20250301
DTSTAMP:20260422T172950
CREATED:20250203T101000Z
LAST-MODIFIED:20250203T101000Z
UID:10000043-1740268800-1740787199@dreadscorner.com
SUMMARY:Custom sets
DESCRIPTION:
URL:https://dreadscorner.com/event/custom-sets-2/
END:VEVENT
BEGIN:VEVENT
DTSTART;VALUE=DATE:20250227
DTEND;VALUE=DATE:20250301
DTSTAMP:20260422T172950
CREATED:20250128T223815Z
LAST-MODIFIED:20250128T223815Z
UID:10000041-1740614400-1740787199@dreadscorner.com
SUMMARY:Custom set
DESCRIPTION:
URL:https://dreadscorner.com/event/custom-set-14/
END:VEVENT
END:VCALENDAR