BEGIN:VCALENDAR
VERSION:2.0
PRODID:-//dreadscorner.com - ECPv6.6.0.2//NONSGML v1.0//EN
CALSCALE:GREGORIAN
METHOD:PUBLISH
X-WR-CALNAME:dreadscorner.com
X-ORIGINAL-URL:https://dreadscorner.com
X-WR-CALDESC:Events for dreadscorner.com
REFRESH-INTERVAL;VALUE=DURATION:PT1H
X-Robots-Tag:noindex
X-PUBLISHED-TTL:PT1H
BEGIN:VTIMEZONE
TZID:Europe/Moscow
BEGIN:STANDARD
TZOFFSETFROM:+0300
TZOFFSETTO:+0300
TZNAME:MSK
DTSTART:20240101T000000
END:STANDARD
END:VTIMEZONE
BEGIN:VEVENT
DTSTART;TZID=Europe/Moscow:20241101T080000
DTEND;TZID=Europe/Moscow:20241103T170000
DTSTAMP:20260422T201202
CREATED:20241007T125411Z
LAST-MODIFIED:20241007T125411Z
UID:10000005-1730448000-1730653200@dreadscorner.com
SUMMARY:Busy
DESCRIPTION:
URL:https://dreadscorner.com/event/busy-4/
END:VEVENT
BEGIN:VEVENT
DTSTART;TZID=Europe/Moscow:20241104T000000
DTEND;TZID=Europe/Moscow:20241105T233000
DTSTAMP:20260422T201202
CREATED:20241025T231143Z
LAST-MODIFIED:20241025T231541Z
UID:10000019-1730678400-1730849400@dreadscorner.com
SUMMARY:Busy
DESCRIPTION:
URL:https://dreadscorner.com/event/busy-2/
END:VEVENT
BEGIN:VEVENT
DTSTART;VALUE=DATE:20241106
DTEND;VALUE=DATE:20241109
DTSTAMP:20260422T201202
CREATED:20241101T002939Z
LAST-MODIFIED:20241101T002939Z
UID:10000021-1730851200-1731110399@dreadscorner.com
SUMMARY:Busy
DESCRIPTION:
URL:https://dreadscorner.com/event/busy-19/
END:VEVENT
BEGIN:VEVENT
DTSTART;VALUE=DATE:20241109
DTEND;VALUE=DATE:20241112
DTSTAMP:20260422T201202
CREATED:20241027T195935Z
LAST-MODIFIED:20241027T195935Z
UID:10000020-1731110400-1731369599@dreadscorner.com
SUMMARY:Busy
DESCRIPTION:
URL:https://dreadscorner.com/event/busy-18/
END:VEVENT
BEGIN:VEVENT
DTSTART;VALUE=DATE:20241112
DTEND;VALUE=DATE:20241113
DTSTAMP:20260422T201202
CREATED:20241101T003012Z
LAST-MODIFIED:20241101T003012Z
UID:10000022-1731369600-1731455999@dreadscorner.com
SUMMARY:Busy
DESCRIPTION:
URL:https://dreadscorner.com/event/busy-20/
END:VEVENT
BEGIN:VEVENT
DTSTART;VALUE=DATE:20241113
DTEND;VALUE=DATE:20241115
DTSTAMP:20260422T201202
CREATED:20241101T004945Z
LAST-MODIFIED:20241101T004945Z
UID:10000023-1731456000-1731628799@dreadscorner.com
SUMMARY:Busy
DESCRIPTION:
URL:https://dreadscorner.com/event/busy-21/
END:VEVENT
BEGIN:VEVENT
DTSTART;TZID=Europe/Moscow:20241115T080000
DTEND;TZID=Europe/Moscow:20241115T233000
DTSTAMP:20260422T201202
CREATED:20241007T130328Z
LAST-MODIFIED:20241007T130328Z
UID:10000015-1731657600-1731713400@dreadscorner.com
SUMMARY:Busy
DESCRIPTION:
URL:https://dreadscorner.com/event/busy-14/
END:VEVENT
BEGIN:VEVENT
DTSTART;TZID=Europe/Moscow:20241116T080000
DTEND;TZID=Europe/Moscow:20241217T170000
DTSTAMP:20260422T201202
CREATED:20240819T181208Z
LAST-MODIFIED:20241021T223855Z
UID:10000002-1731744000-1734454800@dreadscorner.com
SUMMARY:Vacation
DESCRIPTION:
URL:https://dreadscorner.com/event/busy/
END:VEVENT
END:VCALENDAR