BEGIN:VCALENDAR
VERSION:2.0
PRODID:-//dreadscorner.com - ECPv6.6.0.2//NONSGML v1.0//EN
CALSCALE:GREGORIAN
METHOD:PUBLISH
X-ORIGINAL-URL:https://dreadscorner.com
X-WR-CALDESC:Events for dreadscorner.com
REFRESH-INTERVAL;VALUE=DURATION:PT1H
X-Robots-Tag:noindex
X-PUBLISHED-TTL:PT1H
BEGIN:VTIMEZONE
TZID:Europe/Moscow
BEGIN:STANDARD
TZOFFSETFROM:+0300
TZOFFSETTO:+0300
TZNAME:MSK
DTSTART:20240101T000000
END:STANDARD
END:VTIMEZONE
BEGIN:VEVENT
DTSTART;TZID=Europe/Moscow:20241026T080000
DTEND;TZID=Europe/Moscow:20241031T170000
DTSTAMP:20260422T231713
CREATED:20241021T223118Z
LAST-MODIFIED:20241021T223118Z
UID:10000018-1729929600-1730394000@dreadscorner.com
SUMMARY:Busy
DESCRIPTION:
URL:https://dreadscorner.com/event/busy-17/
END:VEVENT
END:VCALENDAR